Workbook
Name valuevx: 42.314159

Sheet Project Budget Local Currency
B1: PATRIP | AI1: A-Activity Cost | AJ1: =AG56 -> 0 | AK1: =+AJ1/AJ3 -> #DIV/0!
B2: Project Budget | AI2: B-Indirect Cost | AJ2: =AG61 -> 0 | AK2: =+AJ2/AJ3 -> #DIV/0!
B3: [Insert Project Code] | AI3: Total | AJ3: =SUM(AJ1:AJ2) -> 0
B4: [Insert Name of Project]
B5: [Insert Name of the NGO+Local Partner Organisation(s)]
B7: EXPENSE Categories | D7: Units | E7: No. of Units | F7: Unit Rate | G7: Total Cost in Local Currency | I7: 44835 | J7: 44866 | K7: 44896 | L7: 44927 | M7: 44958 | N7: 44986 | O7: 45017 | P7: 45047 | Q7: 45078 | R7: 45108 | S7: 45139 | T7: 45170 | U7: 45200 | V7: 45231 | W7: 45261 | X7: 45292 | Y7: 45323 | Z7: 45352 | AA7: 45383 | AB7: 45413 | AC7: 45444 | AD7: 45474 | AE7: 45505 | AF7: 45536 | AG7: Total | AI7: Percentage
F8: Amount | I8: Amount | J8: Amount | K8: Amount | L8: Amount | M8: Amount | N8: Amount | O8: Amount | P8: Amount | Q8: Amount | R8: Amount | S8: Amount | T8: Amount | U8: Amount | V8: Amount | W8: Amount | X8: Amount | Y8: Amount | Z8: Amount | AA8: Amount | AB8: Amount | AC8: Amount | AD8: Amount | AE8: Amount | AF8: Amount | AG8: Amount
B9: A | C9: Direct Costs | F9: (Currency) | G9: (Currency) | I9: (Currency) | J9: (Currency) | K9: (Currency) | L9: (Currency) | M9: (Currency) | N9: (Currency) | O9: (Currency) | P9: (Currency) | Q9: (Currency) | R9: (Currency) | S9: (Currency) | T9: (Currency) | U9: (Currency) | V9: (Currency) | W9: (Currency) | X9: (Currency) | Y9: (Currency) | Z9: (Currency) | AA9: (Currency) | AB9: (Currency) | AC9: (Currency) | AD9: (Currency) | AE9: (Currency) | AF9: (Currency) | AG9: (Currency)
B10: AC | C10: Activity Costs as per logframe
B11: AC1.1 | C11: [Activity as per lograme]
B12: AC1.1.1 | C12: [itemized sub activities AC1.1] | D12: [Infrastructure] | G12: =E12*F12 -> 0 | I12: 0 | J12: 0 | K12: 0 | L12: 0 | M12: 0 | N12: 0 | O12: 0 | P12: 0 | Q12: 0 | R12: 0 | S12: 0 | T12: 0 | U12: 0 | V12: 0 | W12: 0 | X12: 0 | Y12: 0 | Z12: 0 | AA12: 0 | AB12: 0 | AC12: 0 | AD12: 0 | AE12: 0 | AF12: 0 | AG12: =SUM(I12:AF12) -> 0 | AI12: =AG12/$AJ$3 -> #DIV/0!
B13: AC1.1.2 | C13: [itemized sub activities AC1.1] | D13: [Soft activity] | G13: =E13*F13 -> 0 | I13: 0 | J13: 0 | K13: 0 | L13: 0 | M13: 0 | N13: 0 | O13: 0 | P13: 0 | Q13: 0 | R13: 0 | S13: 0 | T13: 0 | U13: 0 | V13: 0 | W13: 0 | X13: 0 | Y13: 0 | Z13: 0 | AA13: 0 | AB13: 0 | AC13: 0 | AD13: 0 | AE13: 0 | AF13: 0 | AG13: =SUM(I13:AF13) -> 0 | AI13: =AG13/$AJ$3 -> #DIV/0!
B14: AC1.1.3 | C14: [itemized sub activities AC1.1] | D14: [Infrastructure] | G14: =E14*F14 -> 0 | I14: 0 | J14: 0 | K14: 0 | L14: 0 | M14: 0 | N14: 0 | O14: 0 | P14: 0 | Q14: 0 | R14: 0 | S14: 0 | T14: 0 | U14: 0 | V14: 0 | W14: 0 | X14: 0 | Y14: 0 | Z14: 0 | AA14: 0 | AB14: 0 | AC14: 0 | AD14: 0 | AE14: 0 | AF14: 0 | AG14: =SUM(I14:AF14) -> 0 | AI14: =AG14/$AJ$3 -> #DIV/0!
C15: Sub Total AC1.1 | G15: =SUM(G12:G14) -> 0 | I15: =SUM(I12:I14) -> 0 | J15: =SUM(J12:J14) -> 0 | K15: =SUM(K12:K14) -> 0 | L15: =SUM(L12:L14) -> 0 | M15: =SUM(M12:M14) -> 0 | N15: =SUM(N12:N14) -> 0 | O15: =SUM(O12:O14) -> 0 | P15: =SUM(P12:P14) -> 0 | ... AG15: =SUM(AG12:AG14) -> 0 | AI15: =AG15/$AJ$3 -> #DIV/0!
B16: AC1.2 | C16: [Activity as per logframe]
B17: AC1.2.1 | C17: [ itemized sub activities AC1.2] | D17: [Per Event] | G17: =E17*F17 -> 0 | I17: 0 | J17: 0 | K17: 0 | L17: 0 | M17: 0 | N17: 0 | O17: 0 | P17: 0 | Q17: 0 | R17: 0 | S17: 0 | T17: 0 | U17: 0 | V17: 0 | W17: 0 | X17: 0 | Y17: 0 | Z17: 0 | AA17: 0 | AB17: 0 | AC17: 0 | AD17: 0 | AE17: 0 | AF17: 0 | AG17: =SUM(I17:AF17) -> 0 | AI17: =AG17/$AJ$3 -> #DIV/0!
B18: AC1.2.2 | C18: [ itemized sub activities AC1.2] | D18: [Per Training] | G18: =E18*F18 -> 0 | I18: 0 | J18: 0 | K18: 0 | L18: 0 | M18: 0 | N18: 0 | O18: 0 | P18: 0 | Q18: 0 | R18: 0 | S18: 0 | T18: 0 | U18: 0 | V18: 0 | W18: 0 | X18: 0 | Y18: 0 | Z18: 0 | AA18: 0 | AB18: 0 | AC18: 0 | AD18: 0 | AE18: 0 | AF18: 0 | AG18: =SUM(I18:AF18) -> 0 | AI18: =AG18/$AJ$3 -> #DIV/0!
B19: AC1.2.3 | C19: [ itemized sub activities AC1.2] | D19: [Per Item] | G19: =E19*F19 -> 0 | I19: 0 | J19: 0 | K19: 0 | L19: 0 | M19: 0 | N19: 0 | O19: 0 | P19: 0 | Q19: 0 | R19: 0 | S19: 0 | T19: 0 | U19: 0 | V19: 0 | W19: 0 | X19: 0 | Y19: 0 | Z19: 0 | AA19: 0 | AB19: 0 | AC19: 0 | AD19: 0 | AE19: 0 | AF19: 0 | AG19: =SUM(I19:AF19) -> 0 | AI19: =AG19/$AJ$3 -> #DIV/0!
C20: Sub Total AC1.2 | G20: =SUM(G17:G19) -> 0 | I20: =SUM(I17:I19) -> 0 | J20: =SUM(J17:J19) -> 0 | K20: =SUM(K17:K19) -> 0 | L20: =SUM(L17:L19) -> 0 | M20: =SUM(M17:M19) -> 0 | N20: =SUM(N17:N19) -> 0 | O20: =SUM(O17:O19) -> 0 | P20: =SUM(P17:P19) -> 0 | ... AG20: =SUM(AG17:AG19) -> 0 | AI20: =AG20/$AJ$3 -> #DIV/0!
B21: AC2.1 | C21: [Activity as per logframe]
B22: AC2.1.1 | C22: [ itemized sub activities AC2.1] | D22: [Equipment] | G22: =E22*F22 -> 0 | I22: 0 | J22: 0 | K22: 0 | L22: 0 | M22: 0 | N22: 0 | O22: 0 | P22: 0 | Q22: 0 | R22: 0 | S22: 0 | T22: 0 | U22: 0 | V22: 0 | W22: 0 | X22: 0 | Y22: 0 | Z22: 0 | AA22: 0 | AB22: 0 | AC22: 0 | AD22: 0 | AE22: 0 | AF22: 0 | AG22: =SUM(I22:AF22) -> 0 | AI22: =AG22/$AJ$3 -> #DIV/0!
B23: AC2.1.2 | C23: [ itemized sub activities AC2.1] | D23: [Furniture] | G23: =E23*F23 -> 0 | I23: 0 | J23: 0 | K23: 0 | L23: 0 | M23: 0 | N23: 0 | O23: 0 | P23: 0 | Q23: 0 | R23: 0 | S23: 0 | T23: 0 | U23: 0 | V23: 0 | W23: 0 | X23: 0 | Y23: 0 | Z23: 0 | AA23: 0 | AB23: 0 | AC23: 0 | AD23: 0 | AE23: 0 | AF23: 0 | AG23: =SUM(I23:AF23) -> 0 | AI23: =AG23/$AJ$3 -> #DIV/0!
B24: AC2.1.3 | C24: [ itemized sub activities AC2.1] | D24: [Per Item] | G24: =E24*F24 -> 0 | I24: 0 | J24: 0 | K24: 0 | L24: 0 | M24: 0 | N24: 0 | O24: 0 | P24: 0 | Q24: 0 | R24: 0 | S24: 0 | T24: 0 | U24: 0 | V24: 0 | W24: 0 | X24: 0 | Y24: 0 | Z24: 0 | AA24: 0 | AB24: 0 | AC24: 0 | AD24: 0 | AE24: 0 | AF24: 0 | AG24: =SUM(I24:AF24) -> 0 | AI24: =AG24/$AJ$3 -> #DIV/0!
C25: Sub Total AC2.1 | G25: =SUM(G22:G24) -> 0 | I25: =SUM(I22:I24) -> 0 | J25: =SUM(J22:J24) -> 0 | K25: =SUM(K22:K24) -> 0 | L25: =SUM(L22:L24) -> 0 | M25: =SUM(M22:M24) -> 0 | N25: =SUM(N22:N24) -> 0 | O25: =SUM(O22:O24) -> 0 | P25: =SUM(P22:P24) -> 0 | ... AG25: =SUM(AG22:AG24) -> 0 | AI25: =AG25/$AJ$3 -> #DIV/0!
B26: AC3.1 | C26: [Activity as per logframe]
B27: AC3.1.1 | C27: [ itemized sub activities AC3.1] | D27: [Per Event] | G27: =E27*F27 -> 0 | I27: 0 | J27: 0 | K27: 0 | L27: 0 | M27: 0 | N27: 0 | O27: 0 | P27: 0 | Q27: 0 | R27: 0 | S27: 0 | T27: 0 | U27: 0 | V27: 0 | W27: 0 | X27: 0 | Y27: 0 | Z27: 0 | AA27: 0 | AB27: 0 | AC27: 0 | AD27: 0 | AE27: 0 | AF27: 0 | AG27: =SUM(I27:AF27) -> 0 | AI27: =AG27/$AJ$3 -> #DIV/0!
B28: AC3.1.2 | C28: [ itemized sub activities AC3.1] | D28: [Per Training] | G28: =E28*F28 -> 0 | I28: 0 | J28: 0 | K28: 0 | L28: 0 | M28: 0 | N28: 0 | O28: 0 | P28: 0 | Q28: 0 | R28: 0 | S28: 0 | T28: 0 | U28: 0 | V28: 0 | W28: 0 | X28: 0 | Y28: 0 | Z28: 0 | AA28: 0 | AB28: 0 | AC28: 0 | AD28: 0 | AE28: 0 | AF28: 0 | AG28: =SUM(I28:AF28) -> 0 | AI28: =AG28/$AJ$3 -> #DIV/0!
B29: AC3.1.3 | C29: [ itemized sub activities AC3.1] | D29: [Per Item] | G29: =E29*F29 -> 0 | I29: 0 | J29: 0 | K29: 0 | L29: 0 | M29: 0 | N29: 0 | O29: 0 | P29: 0 | Q29: 0 | R29: 0 | S29: 0 | T29: 0 | U29: 0 | V29: 0 | W29: 0 | X29: 0 | Y29: 0 | Z29: 0 | AA29: 0 | AB29: 0 | AC29: 0 | AD29: 0 | AE29: 0 | AF29: 0 | AG29: =SUM(I29:AF29) -> 0 | AI29: =AG29/$AJ$3 -> #DIV/0!
C30: Sub Total AC3.1 | G30: =SUM(G27:G29) -> 0 | I30: =SUM(I27:I29) -> 0 | J30: =SUM(J27:J29) -> 0 | K30: =SUM(K27:K29) -> 0 | L30: =SUM(L27:L29) -> 0 | M30: =SUM(M27:M29) -> 0 | N30: =SUM(N27:N29) -> 0 | O30: =SUM(O27:O29) -> 0 | P30: =SUM(P27:P29) -> 0 | ... AG30: =SUM(AG27:AG29) -> 0 | AI30: =AG30/$AJ$3 -> #DIV/0!
B31: AC4.1 | C31: Activity' costs Contingency: 5% of Total AC1.1:AC3.1
B32: AC4.1.1 | C32: [Activity Contingency 5% ] | D32: Lumpsum | G32: =E32*F32 -> 0 | I32: 0 | J32: 0 | K32: 0 | L32: 0 | M32: 0 | N32: 0 | O32: 0 | P32: 0 | Q32: 0 | R32: 0 | S32: 0 | T32: 0 | U32: 0 | V32: 0 | W32: 0 | X32: 0 | Y32: 0 | Z32: 0 | AA32: 0 | AB32: 0 | AC32: 0 | AD32: 0 | AE32: 0 | AF32: 0 | AG32: =SUM(I32:AF32) -> 0 | AI32: =AG32/$AJ$3 -> #DIV/0!
C33: Sub Total AC4.1 | G33: =SUM(G32:G32) -> 0 | I33: =SUM(I32:I32) -> 0 | J33: =SUM(J32:J32) -> 0 | K33: =SUM(K32:K32) -> 0 | L33: =SUM(L32:L32) -> 0 | M33: =SUM(M32:M32) -> 0 | N33: =SUM(N32:N32) -> 0 | O33: =SUM(O32:O32) -> 0 | P33: =SUM(P32:P32) -> 0 | ... AG33: =SUM(AG32:AG32) -> 0 | AI33: =AG33/$AJ$3 -> #DIV/0!
C35: Sub Total Activity Cost | G35: =G15+G25+G30+G20+G33 -> 0 | I35: =I15+I25+I30+I20+I33 -> 0 | J35: =J15+J25+J30+J20+J33 -> 0 | K35: =K15+K25+K30+K20+K33 -> 0 | L35: =L15+L25+L30+L20+L33 -> 0 | M35: =M15+M25+M30+M20+M33 -> 0 | N35: =N15+N25+N30+N20+N33 -> 0 | O35: =O15+O25+O30+O20+O33 -> 0 | P35: =P15+P25+P30+P20+P33 -> 0 | ... AG35: =AG15+AG25+AG30+AG20+AG33 -> 0 | AI35: =AG35/$AJ$3 -> #DIV/0!
B37: AS | C37: Activity Support Costs
B38: AS1 | C38: External Consultants / Experts
B39: AS1.1 | C39: [ itemized expense ] | D39: [Per Study] | G39: =E39*F39 -> 0 | I39: 0 | J39: 0 | K39: 0 | L39: 0 | M39: 0 | N39: 0 | O39: 0 | P39: 0 | Q39: 0 | R39: 0 | S39: 0 | T39: 0 | U39: 0 | V39: 0 | W39: 0 | X39: 0 | Y39: 0 | Z39: 0 | AA39: 0 | AB39: 0 | AC39: 0 | AD39: 0 | AE39: 0 | AF39: 0 | AG39: =SUM(I39:AF39) -> 0 | AI39: =AG39/$AJ$3 -> #DIV/0!
B40: AS1.2 | C40: [ itemized expense ] | D40: [Per Item] | G40: =E40*F40 -> 0 | I40: 0 | J40: 0 | K40: 0 | L40: 0 | M40: 0 | N40: 0 | O40: 0 | P40: 0 | Q40: 0 | R40: 0 | S40: 0 | T40: 0 | U40: 0 | V40: 0 | W40: 0 | X40: 0 | Y40: 0 | Z40: 0 | AA40: 0 | AB40: 0 | AC40: 0 | AD40: 0 | AE40: 0 | AF40: 0 | AG40: =SUM(I40:AF40) -> 0 | AI40: =AG40/$AJ$3 -> #DIV/0!
B41: AS1.3 | C41: [ itemized expense ] | D41: [Per Item] | G41: =E41*F41 -> 0 | I41: 0 | J41: 0 | K41: 0 | L41: 0 | M41: 0 | N41: 0 | O41: 0 | P41: 0 | Q41: 0 | R41: 0 | S41: 0 | T41: 0 | U41: 0 | V41: 0 | W41: 0 | X41: 0 | Y41: 0 | Z41: 0 | AA41: 0 | AB41: 0 | AC41: 0 | AD41: 0 | AE41: 0 | AF41: 0 | AG41: =SUM(I41:AF41) -> 0 | AI41: =AG41/$AJ$3 -> #DIV/0!
C42: Sub Total AS1 | G42: =SUM(G39:G41) -> 0 | I42: =SUM(I39:I41) -> 0 | J42: =SUM(J39:J41) -> 0 | K42: =SUM(K39:K41) -> 0 | L42: =SUM(L39:L41) -> 0 | M42: =SUM(M39:M41) -> 0 | N42: =SUM(N39:N41) -> 0 | O42: =SUM(O39:O41) -> 0 | P42: =SUM(P39:P41) -> 0 | ... AG42: =SUM(AG39:AG41) -> 0 | AI42: =AG42/$AJ$3 -> #DIV/0!
B43: AS2 | C43: Staff Costs
...

Sheet Project Budget Donor Currency
B1: PATRIP | AE1: Current Average Exchange Rate | AG1: 100 | AI1: A-Activity Cost | AJ1: =AG56 -> 0 | AK1: =+AJ1/AJ3 -> #DIV/0!
B2: Project Budget | AE2: 5% of Rate as buffer | AG2: =AG1*5% -> 5 | AI2: B-Indirect Cost | AJ2: =AG61 -> 0 | AK2: =+AJ2/AJ3 -> #DIV/0!
B3: [Insert Project Code] | AE3: Applied Exchange Rate | AG3: =AG1-AG2 -> 95 | AI3: Total | AJ3: =SUM(AJ1:AJ2) -> 0
B4: [Insert Name of Project]
B5: [Insert Name of the NGO+Local Partner Organsation(s)]
B7: EXPENSE Categories | D7: Units | E7: No. of Units | F7: Unit Rate | G7: Total Cost in Donor Currency | I7: 44835 | J7: 44866 | K7: 44896 | L7: 44927 | M7: 44958 | N7: 44986 | O7: 45017 | P7: 45047 | Q7: 45078 | R7: 45108 | S7: 45139 | T7: 45170 | U7: 45200 | V7: 45231 | W7: 45261 | X7: 45292 | Y7: 45323 | Z7: 45352 | AA7: 45383 | AB7: 45413 | AC7: 45444 | AD7: 45474 | AE7: 45505 | AF7: 45536 | AG7: Total | AI7: Percentage
F8: Amount | I8: Amount | J8: Amount | K8: Amount | L8: Amount | M8: Amount | N8: Amount | O8: Amount | P8: Amount | Q8: Amount | R8: Amount | S8: Amount | T8: Amount | U8: Amount | V8: Amount | W8: Amount | X8: Amount | Y8: Amount | Z8: Amount | AA8: Amount | AB8: Amount | AC8: Amount | AD8: Amount | AE8: Amount | AF8: Amount | AG8: Amount
B9: A | C9: Direct Costs | F9: EUR | G9: EUR | I9: EUR | J9: EUR | K9: EUR | L9: EUR | M9: EUR | N9: EUR | O9: EUR | P9: EUR | Q9: EUR | R9: EUR | S9: EUR | T9: EUR | U9: EUR | V9: EUR | W9: EUR | X9: EUR | Y9: EUR | Z9: EUR | AA9: EUR | AB9: EUR | AC9: EUR | AD9: EUR | AE9: EUR | AF9: EUR | AG9: EUR
B10: AC | C10: Activity Costs as per Logframe
B11: AC1.1 | C11: [Activity as per logframe]
B12: AC1.1.1 | C12: [itemized sub activities AC1.1] | D12: [Infrastructure] | E12: ='Project Budget Local Currency'!E12 -> 0 | F12: ='Project Budget Local Currency'!F12/'Project Budget Donor Currency'!$AG$3 -> 0 | G12: ='Project Budget Local Currency'!G12/'Project Budget Donor Currency'!$AG$3 -> 0 | I12: ='Project Budget Local Currency'!I12/'Project Budget Donor Currency'!$AG$3 -> 0 | J12: ='Project Budget Local Currency'!J12/'Project Budget Donor Currency'!$AG$3 -> 0 | K12: ='Project Budget Local Currency'!K12/'Project Budget Donor Currency'!$AG$3 -> 0 | L12: ='Project Budget Local Currency'!L12/'Project Budget Donor Currency'!$AG$3 -> 0 | M12: ='Project Budget Local Currency'!M12/'Project Budget Donor Currency'!$AG$3 -> 0 | N12: ='Project Budget Local Currency'!N12/'Project Budget Donor Currency'!$AG$3 -> 0 | O12: ='Project Budget Local Currency'!O12/'Project Budget Donor Currency'!$AG$3 -> 0 | P12: ='Project Budget Local Currency'!P12/'Project Budget Donor Currency'!$AG$3 -> 0 | ... AF12: ='Project Budget Local Currency'!AF12/'Project Budget Donor Currency'!$AG$3 -> 0 | AG12: =SUM(I12:AF12) -> 0 | AI12: =AG12/$AJ$3 -> #DIV/0!
B13: AC1.1.2 | C13: [itemized sub activities AC1.1] | D13: [Soft activity] | E13: ='Project Budget Local Currency'!E13 -> 0 | F13: ='Project Budget Local Currency'!F13/'Project Budget Donor Currency'!$AG$3 -> 0 | G13: ='Project Budget Local Currency'!G13/'Project Budget Donor Currency'!$AG$3 -> 0 | I13: ='Project Budget Local Currency'!I13/'Project Budget Donor Currency'!$AG$3 -> 0 | J13: ='Project Budget Local Currency'!J13/'Project Budget Donor Currency'!$AG$3 -> 0 | K13: ='Project Budget Local Currency'!K13/'Project Budget Donor Currency'!$AG$3 -> 0 | L13: ='Project Budget Local Currency'!L13/'Project Budget Donor Currency'!$AG$3 -> 0 | M13: ='Project Budget Local Currency'!M13/'Project Budget Donor Currency'!$AG$3 -> 0 | N13: ='Project Budget Local Currency'!N13/'Project Budget Donor Currency'!$AG$3 -> 0 | O13: ='Project Budget Local Currency'!O13/'Project Budget Donor Currency'!$AG$3 -> 0 | P13: ='Project Budget Local Currency'!P13/'Project Budget Donor Currency'!$AG$3 -> 0 | ... AF13: ='Project Budget Local Currency'!AF13/'Project Budget Donor Currency'!$AG$3 -> 0 | AG13: =SUM(I13:AF13) -> 0 | AI13: =AG13/$AJ$3 -> #DIV/0!
B14: AC1.1.3 | C14: [itemized sub activities AC1.1] | D14: [Infrastructure] | E14: ='Project Budget Local Currency'!E14 -> 0 | F14: ='Project Budget Local Currency'!F14/'Project Budget Donor Currency'!$AG$3 -> 0 | G14: ='Project Budget Local Currency'!G14/'Project Budget Donor Currency'!$AG$3 -> 0 | I14: ='Project Budget Local Currency'!I14/'Project Budget Donor Currency'!$AG$3 -> 0 | J14: ='Project Budget Local Currency'!J14/'Project Budget Donor Currency'!$AG$3 -> 0 | K14: ='Project Budget Local Currency'!K14/'Project Budget Donor Currency'!$AG$3 -> 0 | L14: ='Project Budget Local Currency'!L14/'Project Budget Donor Currency'!$AG$3 -> 0 | M14: ='Project Budget Local Currency'!M14/'Project Budget Donor Currency'!$AG$3 -> 0 | N14: ='Project Budget Local Currency'!N14/'Project Budget Donor Currency'!$AG$3 -> 0 | O14: ='Project Budget Local Currency'!O14/'Project Budget Donor Currency'!$AG$3 -> 0 | P14: ='Project Budget Local Currency'!P14/'Project Budget Donor Currency'!$AG$3 -> 0 | ... AF14: ='Project Budget Local Currency'!AF14/'Project Budget Donor Currency'!$AG$3 -> 0 | AG14: =SUM(I14:AF14) -> 0 | AI14: =AG14/$AJ$3 -> #DIV/0!
C15: Sub Total AC1.1 | G15: =SUM(G12:G14) -> 0 | I15: =SUM(I12:I14) -> 0 | J15: =SUM(J12:J14) -> 0 | K15: =SUM(K12:K14) -> 0 | L15: =SUM(L12:L14) -> 0 | M15: =SUM(M12:M14) -> 0 | N15: =SUM(N12:N14) -> 0 | O15: =SUM(O12:O14) -> 0 | P15: =SUM(P12:P14) -> 0 | ... AG15: =SUM(AG12:AG14) -> 0 | AI15: =AG15/$AJ$3 -> #DIV/0!
B16: AC1.2 | C16: [Activity as per logframe]
B17: AC1.2.1 | C17: [ itemized sub activities AC1.2] | D17: [Per Event] | E17: ='Project Budget Local Currency'!E17 -> 0 | F17: ='Project Budget Local Currency'!F17/'Project Budget Donor Currency'!$AG$3 -> 0 | G17: ='Project Budget Local Currency'!G17/'Project Budget Donor Currency'!$AG$3 -> 0 | I17: ='Project Budget Local Currency'!I17/'Project Budget Donor Currency'!$AG$3 -> 0 | J17: ='Project Budget Local Currency'!J17/'Project Budget Donor Currency'!$AG$3 -> 0 | K17: ='Project Budget Local Currency'!K17/'Project Budget Donor Currency'!$AG$3 -> 0 | L17: ='Project Budget Local Currency'!L17/'Project Budget Donor Currency'!$AG$3 -> 0 | M17: ='Project Budget Local Currency'!M17/'Project Budget Donor Currency'!$AG$3 -> 0 | N17: ='Project Budget Local Currency'!N17/'Project Budget Donor Currency'!$AG$3 -> 0 | O17: ='Project Budget Local Currency'!O17/'Project Budget Donor Currency'!$AG$3 -> 0 | P17: ='Project Budget Local Currency'!P17/'Project Budget Donor Currency'!$AG$3 -> 0 | ... AF17: ='Project Budget Local Currency'!AF17/'Project Budget Donor Currency'!$AG$3 -> 0 | AG17: =SUM(I17:AF17) -> 0 | AI17: =AG17/$AJ$3 -> #DIV/0!
B18: AC1.2.2 | C18: [ itemized sub activities AC1.2] | D18: [Per Training] | E18: ='Project Budget Local Currency'!E18 -> 0 | F18: ='Project Budget Local Currency'!F18/'Project Budget Donor Currency'!$AG$3 -> 0 | G18: ='Project Budget Local Currency'!G18/'Project Budget Donor Currency'!$AG$3 -> 0 | I18: ='Project Budget Local Currency'!I18/'Project Budget Donor Currency'!$AG$3 -> 0 | J18: ='Project Budget Local Currency'!J18/'Project Budget Donor Currency'!$AG$3 -> 0 | K18: ='Project Budget Local Currency'!K18/'Project Budget Donor Currency'!$AG$3 -> 0 | L18: ='Project Budget Local Currency'!L18/'Project Budget Donor Currency'!$AG$3 -> 0 | M18: ='Project Budget Local Currency'!M18/'Project Budget Donor Currency'!$AG$3 -> 0 | N18: ='Project Budget Local Currency'!N18/'Project Budget Donor Currency'!$AG$3 -> 0 | O18: ='Project Budget Local Currency'!O18/'Project Budget Donor Currency'!$AG$3 -> 0 | P18: ='Project Budget Local Currency'!P18/'Project Budget Donor Currency'!$AG$3 -> 0 | ... AF18: ='Project Budget Local Currency'!AF18/'Project Budget Donor Currency'!$AG$3 -> 0 | AG18: =SUM(I18:AF18) -> 0 | AI18: =AG18/$AJ$3 -> #DIV/0!
B19: AC1.2.3 | C19: [ itemized sub activities AC1.2] | D19: [Per Item] | E19: ='Project Budget Local Currency'!E19 -> 0 | F19: ='Project Budget Local Currency'!F19/'Project Budget Donor Currency'!$AG$3 -> 0 | G19: ='Project Budget Local Currency'!G19/'Project Budget Donor Currency'!$AG$3 -> 0 | I19: ='Project Budget Local Currency'!I19/'Project Budget Donor Currency'!$AG$3 -> 0 | J19: ='Project Budget Local Currency'!J19/'Project Budget Donor Currency'!$AG$3 -> 0 | K19: ='Project Budget Local Currency'!K19/'Project Budget Donor Currency'!$AG$3 -> 0 | L19: ='Project Budget Local Currency'!L19/'Project Budget Donor Currency'!$AG$3 -> 0 | M19: ='Project Budget Local Currency'!M19/'Project Budget Donor Currency'!$AG$3 -> 0 | N19: ='Project Budget Local Currency'!N19/'Project Budget Donor Currency'!$AG$3 -> 0 | O19: ='Project Budget Local Currency'!O19/'Project Budget Donor Currency'!$AG$3 -> 0 | P19: ='Project Budget Local Currency'!P19/'Project Budget Donor Currency'!$AG$3 -> 0 | ... AF19: ='Project Budget Local Currency'!AF19/'Project Budget Donor Currency'!$AG$3 -> 0 | AG19: =SUM(I19:AF19) -> 0 | AI19: =AG19/$AJ$3 -> #DIV/0!
C20: Sub Total AC1.2 | G20: =SUM(G17:G19) -> 0 | I20: =SUM(I17:I19) -> 0 | J20: =SUM(J17:J19) -> 0 | K20: =SUM(K17:K19) -> 0 | L20: =SUM(L17:L19) -> 0 | M20: =SUM(M17:M19) -> 0 | N20: =SUM(N17:N19) -> 0 | O20: =SUM(O17:O19) -> 0 | P20: =SUM(P17:P19) -> 0 | ... AG20: =SUM(AG17:AG19) -> 0 | AI20: =AG20/$AJ$3 -> #DIV/0!
B21: AC2.1 | C21: [Activity as per logframe]
B22: AC2.1.1 | C22: [ itemized sub activities AC2.1] | D22: [Equipment] | E22: ='Project Budget Local Currency'!E22 -> 0 | F22: ='Project Budget Local Currency'!F22/'Project Budget Donor Currency'!$AG$3 -> 0 | G22: ='Project Budget Local Currency'!G22/'Project Budget Donor Currency'!$AG$3 -> 0 | I22: ='Project Budget Local Currency'!I22/'Project Budget Donor Currency'!$AG$3 -> 0 | J22: ='Project Budget Local Currency'!J22/'Project Budget Donor Currency'!$AG$3 -> 0 | K22: ='Project Budget Local Currency'!K22/'Project Budget Donor Currency'!$AG$3 -> 0 | L22: ='Project Budget Local Currency'!L22/'Project Budget Donor Currency'!$AG$3 -> 0 | M22: ='Project Budget Local Currency'!M22/'Project Budget Donor Currency'!$AG$3 -> 0 | N22: ='Project Budget Local Currency'!N22/'Project Budget Donor Currency'!$AG$3 -> 0 | O22: ='Project Budget Local Currency'!O22/'Project Budget Donor Currency'!$AG$3 -> 0 | P22: ='Project Budget Local Currency'!P22/'Project Budget Donor Currency'!$AG$3 -> 0 | ... AF22: ='Project Budget Local Currency'!AF22/'Project Budget Donor Currency'!$AG$3 -> 0 | AG22: =SUM(I22:AF22) -> 0 | AI22: =AG22/$AJ$3 -> #DIV/0!
B23: AC2.1.2 | C23: [ itemized sub activities AC2.1] | D23: [Furniture] | E23: ='Project Budget Local Currency'!E23 -> 0 | F23: ='Project Budget Local Currency'!F23/'Project Budget Donor Currency'!$AG$3 -> 0 | G23: ='Project Budget Local Currency'!G23/'Project Budget Donor Currency'!$AG$3 -> 0 | I23: ='Project Budget Local Currency'!I23/'Project Budget Donor Currency'!$AG$3 -> 0 | J23: ='Project Budget Local Currency'!J23/'Project Budget Donor Currency'!$AG$3 -> 0 | K23: ='Project Budget Local Currency'!K23/'Project Budget Donor Currency'!$AG$3 -> 0 | L23: ='Project Budget Local Currency'!L23/'Project Budget Donor Currency'!$AG$3 -> 0 | M23: ='Project Budget Local Currency'!M23/'Project Budget Donor Currency'!$AG$3 -> 0 | N23: ='Project Budget Local Currency'!N23/'Project Budget Donor Currency'!$AG$3 -> 0 | O23: ='Project Budget Local Currency'!O23/'Project Budget Donor Currency'!$AG$3 -> 0 | P23: ='Project Budget Local Currency'!P23/'Project Budget Donor Currency'!$AG$3 -> 0 | ... AF23: ='Project Budget Local Currency'!AF23/'Project Budget Donor Currency'!$AG$3 -> 0 | AG23: =SUM(I23:AF23) -> 0 | AI23: =AG23/$AJ$3 -> #DIV/0!
B24: AC2.1.3 | C24: [ itemized sub activities AC2.1] | D24: [Per Item] | E24: ='Project Budget Local Currency'!E24 -> 0 | F24: ='Project Budget Local Currency'!F24/'Project Budget Donor Currency'!$AG$3 -> 0 | G24: ='Project Budget Local Currency'!G24/'Project Budget Donor Currency'!$AG$3 -> 0 | I24: ='Project Budget Local Currency'!I24/'Project Budget Donor Currency'!$AG$3 -> 0 | J24: ='Project Budget Local Currency'!J24/'Project Budget Donor Currency'!$AG$3 -> 0 | K24: ='Project Budget Local Currency'!K24/'Project Budget Donor Currency'!$AG$3 -> 0 | L24: ='Project Budget Local Currency'!L24/'Project Budget Donor Currency'!$AG$3 -> 0 | M24: ='Project Budget Local Currency'!M24/'Project Budget Donor Currency'!$AG$3 -> 0 | N24: ='Project Budget Local Currency'!N24/'Project Budget Donor Currency'!$AG$3 -> 0 | O24: ='Project Budget Local Currency'!O24/'Project Budget Donor Currency'!$AG$3 -> 0 | P24: ='Project Budget Local Currency'!P24/'Project Budget Donor Currency'!$AG$3 -> 0 | ... AF24: ='Project Budget Local Currency'!AF24/'Project Budget Donor Currency'!$AG$3 -> 0 | AG24: =SUM(I24:AF24) -> 0 | AI24: =AG24/$AJ$3 -> #DIV/0!
C25: Sub Total AC2.1 | G25: =SUM(G22:G24) -> 0 | I25: =SUM(I22:I24) -> 0 | J25: =SUM(J22:J24) -> 0 | K25: =SUM(K22:K24) -> 0 | L25: =SUM(L22:L24) -> 0 | M25: =SUM(M22:M24) -> 0 | N25: =SUM(N22:N24) -> 0 | O25: =SUM(O22:O24) -> 0 | P25: =SUM(P22:P24) -> 0 | ... AG25: =SUM(AG22:AG24) -> 0 | AI25: =AG25/$AJ$3 -> #DIV/0!
B26: AC3.1 | C26: [Activity as per logframe]
B27: AC3.1.1 | C27: [ itemized sub activities AC3.1] | D27: [Per Event] | E27: ='Project Budget Local Currency'!E27 -> 0 | F27: ='Project Budget Local Currency'!F27/'Project Budget Donor Currency'!$AG$3 -> 0 | G27: ='Project Budget Local Currency'!G27/'Project Budget Donor Currency'!$AG$3 -> 0 | I27: ='Project Budget Local Currency'!I27/'Project Budget Donor Currency'!$AG$3 -> 0 | J27: ='Project Budget Local Currency'!J27/'Project Budget Donor Currency'!$AG$3 -> 0 | K27: ='Project Budget Local Currency'!K27/'Project Budget Donor Currency'!$AG$3 -> 0 | L27: ='Project Budget Local Currency'!L27/'Project Budget Donor Currency'!$AG$3 -> 0 | M27: ='Project Budget Local Currency'!M27/'Project Budget Donor Currency'!$AG$3 -> 0 | N27: ='Project Budget Local Currency'!N27/'Project Budget Donor Currency'!$AG$3 -> 0 | O27: ='Project Budget Local Currency'!O27/'Project Budget Donor Currency'!$AG$3 -> 0 | P27: ='Project Budget Local Currency'!P27/'Project Budget Donor Currency'!$AG$3 -> 0 | ... AF27: ='Project Budget Local Currency'!AF27/'Project Budget Donor Currency'!$AG$3 -> 0 | AG27: =SUM(I27:AF27) -> 0 | AI27: =AG27/$AJ$3 -> #DIV/0!
B28: AC3.1.2 | C28: [ itemized sub activities AC3.1] | D28: [Per Training] | E28: ='Project Budget Local Currency'!E28 -> 0 | F28: ='Project Budget Local Currency'!F28/'Project Budget Donor Currency'!$AG$3 -> 0 | G28: ='Project Budget Local Currency'!G28/'Project Budget Donor Currency'!$AG$3 -> 0 | I28: ='Project Budget Local Currency'!I28/'Project Budget Donor Currency'!$AG$3 -> 0 | J28: ='Project Budget Local Currency'!J28/'Project Budget Donor Currency'!$AG$3 -> 0 | K28: ='Project Budget Local Currency'!K28/'Project Budget Donor Currency'!$AG$3 -> 0 | L28: ='Project Budget Local Currency'!L28/'Project Budget Donor Currency'!$AG$3 -> 0 | M28: ='Project Budget Local Currency'!M28/'Project Budget Donor Currency'!$AG$3 -> 0 | N28: ='Project Budget Local Currency'!N28/'Project Budget Donor Currency'!$AG$3 -> 0 | O28: ='Project Budget Local Currency'!O28/'Project Budget Donor Currency'!$AG$3 -> 0 | P28: ='Project Budget Local Currency'!P28/'Project Budget Donor Currency'!$AG$3 -> 0 | ... AF28: ='Project Budget Local Currency'!AF28/'Project Budget Donor Currency'!$AG$3 -> 0 | AG28: =SUM(I28:AF28) -> 0 | AI28: =AG28/$AJ$3 -> #DIV/0!
B29: AC3.1.3 | C29: [ itemized sub activities AC3.1] | D29: [Per Item] | E29: ='Project Budget Local Currency'!E29 -> 0 | F29: ='Project Budget Local Currency'!F29/'Project Budget Donor Currency'!$AG$3 -> 0 | G29: ='Project Budget Local Currency'!G29/'Project Budget Donor Currency'!$AG$3 -> 0 | I29: ='Project Budget Local Currency'!I29/'Project Budget Donor Currency'!$AG$3 -> 0 | J29: ='Project Budget Local Currency'!J29/'Project Budget Donor Currency'!$AG$3 -> 0 | K29: ='Project Budget Local Currency'!K29/'Project Budget Donor Currency'!$AG$3 -> 0 | L29: ='Project Budget Local Currency'!L29/'Project Budget Donor Currency'!$AG$3 -> 0 | M29: ='Project Budget Local Currency'!M29/'Project Budget Donor Currency'!$AG$3 -> 0 | N29: ='Project Budget Local Currency'!N29/'Project Budget Donor Currency'!$AG$3 -> 0 | O29: ='Project Budget Local Currency'!O29/'Project Budget Donor Currency'!$AG$3 -> 0 | P29: ='Project Budget Local Currency'!P29/'Project Budget Donor Currency'!$AG$3 -> 0 | ... AF29: ='Project Budget Local Currency'!AF29/'Project Budget Donor Currency'!$AG$3 -> 0 | AG29: =SUM(I29:AF29) -> 0 | AI29: =AG29/$AJ$3 -> #DIV/0!
C30: Sub Total AC3.1 | G30: =SUM(G27:G29) -> 0 | I30: =SUM(I27:I29) -> 0 | J30: =SUM(J27:J29) -> 0 | K30: =SUM(K27:K29) -> 0 | L30: =SUM(L27:L29) -> 0 | M30: =SUM(M27:M29) -> 0 | N30: =SUM(N27:N29) -> 0 | O30: =SUM(O27:O29) -> 0 | P30: =SUM(P27:P29) -> 0 | ... AG30: =SUM(AG27:AG29) -> 0 | AI30: =AG30/$AJ$3 -> #DIV/0!
B31: AC4.1 | C31: Activity' costs Contingency: 5% of Total AC1.1:AC3.1
B32: AC4.1.1 | C32: [Activity Contingency 5% ] | D32: Lumpsum | E32: ='Project Budget Local Currency'!E32 -> 0 | F32: ='Project Budget Local Currency'!F32/'Project Budget Donor Currency'!$AG$3 -> 0 | G32: ='Project Budget Local Currency'!G32/'Project Budget Donor Currency'!$AG$3 -> 0 | I32: ='Project Budget Local Currency'!I32/'Project Budget Donor Currency'!$AG$3 -> 0 | J32: ='Project Budget Local Currency'!J32/'Project Budget Donor Currency'!$AG$3 -> 0 | K32: ='Project Budget Local Currency'!K32/'Project Budget Donor Currency'!$AG$3 -> 0 | L32: ='Project Budget Local Currency'!L32/'Project Budget Donor Currency'!$AG$3 -> 0 | M32: ='Project Budget Local Currency'!M32/'Project Budget Donor Currency'!$AG$3 -> 0 | N32: ='Project Budget Local Currency'!N32/'Project Budget Donor Currency'!$AG$3 -> 0 | O32: ='Project Budget Local Currency'!O32/'Project Budget Donor Currency'!$AG$3 -> 0 | P32: ='Project Budget Local Currency'!P32/'Project Budget Donor Currency'!$AG$3 -> 0 | ... AF32: ='Project Budget Local Currency'!AF32/'Project Budget Donor Currency'!$AG$3 -> 0 | AG32: =SUM(I32:AF32) -> 0 | AI32: =AG32/$AJ$3 -> #DIV/0!
C33: Sub Total AC4.1 | G33: =SUM(G32:G32) -> 0 | I33: =SUM(I32:I32) -> 0 | J33: =SUM(J32:J32) -> 0 | K33: =SUM(K32:K32) -> 0 | L33: =SUM(L32:L32) -> 0 | M33: =SUM(M32:M32) -> 0 | N33: =SUM(N32:N32) -> 0 | O33: =SUM(O32:O32) -> 0 | P33: =SUM(P32:P32) -> 0 | ... AG33: =SUM(AG32:AG32) -> 0 | AI33: =AG33/$AJ$3 -> #DIV/0!
C35: Sub Total Activity Cost | G35: =G15+G25+G30+G20+G33 -> 0 | I35: =I15+I25+I30+I20+I33 -> 0 | J35: =J15+J25+J30+J20+J33 -> 0 | K35: =K15+K25+K30+K20+K33 -> 0 | L35: =L15+L25+L30+L20+L33 -> 0 | M35: =M15+M25+M30+M20+M33 -> 0 | N35: =N15+N25+N30+N20+N33 -> 0 | O35: =O15+O25+O30+O20+O33 -> 0 | P35: =P15+P25+P30+P20+P33 -> 0 | ... AG35: =AG15+AG25+AG30+AG20+AG33 -> 0 | AI35: =AG35/$AJ$3 -> #DIV/0!
B37: AS | C37: Activity Support Costs
B38: AS1 | C38: External Consultants / Experts
B39: AS1.1 | C39: [ itemized expense ] | D39: [Per Study] | E39: ='Project Budget Local Currency'!E39 -> 0 | F39: ='Project Budget Local Currency'!F39/'Project Budget Donor Currency'!$AG$3 -> 0 | G39: ='Project Budget Local Currency'!G39/'Project Budget Donor Currency'!$AG$3 -> 0 | I39: ='Project Budget Local Currency'!I39/'Project Budget Donor Currency'!$AG$3 -> 0 | J39: ='Project Budget Local Currency'!J39/'Project Budget Donor Currency'!$AG$3 -> 0 | K39: ='Project Budget Local Currency'!K39/'Project Budget Donor Currency'!$AG$3 -> 0 | L39: ='Project Budget Local Currency'!L39/'Project Budget Donor Currency'!$AG$3 -> 0 | M39: ='Project Budget Local Currency'!M39/'Project Budget Donor Currency'!$AG$3 -> 0 | N39: ='Project Budget Local Currency'!N39/'Project Budget Donor Currency'!$AG$3 -> 0 | O39: ='Project Budget Local Currency'!O39/'Project Budget Donor Currency'!$AG$3 -> 0 | P39: ='Project Budget Local Currency'!P39/'Project Budget Donor Currency'!$AG$3 -> 0 | ... AF39: ='Project Budget Local Currency'!AF39/'Project Budget Donor Currency'!$AG$3 -> 0 | AG39: =SUM(I39:AF39) -> 0 | AI39: =AG39/$AJ$3 -> #DIV/0!
B40: AS1.2 | C40: [ itemized expense ] | D40: [Per Item] | E40: ='Project Budget Local Currency'!E40 -> 0 | F40: ='Project Budget Local Currency'!F40/'Project Budget Donor Currency'!$AG$3 -> 0 | G40: ='Project Budget Local Currency'!G40/'Project Budget Donor Currency'!$AG$3 -> 0 | I40: ='Project Budget Local Currency'!I40/'Project Budget Donor Currency'!$AG$3 -> 0 | J40: ='Project Budget Local Currency'!J40/'Project Budget Donor Currency'!$AG$3 -> 0 | K40: ='Project Budget Local Currency'!K40/'Project Budget Donor Currency'!$AG$3 -> 0 | L40: ='Project Budget Local Currency'!L40/'Project Budget Donor Currency'!$AG$3 -> 0 | M40: ='Project Budget Local Currency'!M40/'Project Budget Donor Currency'!$AG$3 -> 0 | N40: ='Project Budget Local Currency'!N40/'Project Budget Donor Currency'!$AG$3 -> 0 | O40: ='Project Budget Local Currency'!O40/'Project Budget Donor Currency'!$AG$3 -> 0 | P40: ='Project Budget Local Currency'!P40/'Project Budget Donor Currency'!$AG$3 -> 0 | ... AF40: ='Project Budget Local Currency'!AF40/'Project Budget Donor Currency'!$AG$3 -> 0 | AG40: =SUM(I40:AF40) -> 0 | AI40: =AG40/$AJ$3 -> #DIV/0!
B41: AS1.3 | C41: [ itemized expense ] | D41: [Per Item] | E41: ='Project Budget Local Currency'!E41 -> 0 | F41: ='Project Budget Local Currency'!F41/'Project Budget Donor Currency'!$AG$3 -> 0 | G41: ='Project Budget Local Currency'!G41/'Project Budget Donor Currency'!$AG$3 -> 0 | I41: ='Project Budget Local Currency'!I41/'Project Budget Donor Currency'!$AG$3 -> 0 | J41: ='Project Budget Local Currency'!J41/'Project Budget Donor Currency'!$AG$3 -> 0 | K41: ='Project Budget Local Currency'!K41/'Project Budget Donor Currency'!$AG$3 -> 0 | L41: ='Project Budget Local Currency'!L41/'Project Budget Donor Currency'!$AG$3 -> 0 | M41: ='Project Budget Local Currency'!M41/'Project Budget Donor Currency'!$AG$3 -> 0 | N41: ='Project Budget Local Currency'!N41/'Project Budget Donor Currency'!$AG$3 -> 0 | O41: ='Project Budget Local Currency'!O41/'Project Budget Donor Currency'!$AG$3 -> 0 | P41: ='Project Budget Local Currency'!P41/'Project Budget Donor Currency'!$AG$3 -> 0 | ... AF41: ='Project Budget Local Currency'!AF41/'Project Budget Donor Currency'!$AG$3 -> 0 | AG41: =SUM(I41:AF41) -> 0 | AI41: =AG41/$AJ$3 -> #DIV/0!
C42: Sub Total AS1 | G42: =SUM(G39:G41) -> 0 | I42: =SUM(I39:I41) -> 0 | J42: =SUM(J39:J41) -> 0 | K42: =SUM(K39:K41) -> 0 | L42: =SUM(L39:L41) -> 0 | M42: =SUM(M39:M41) -> 0 | N42: =SUM(N39:N41) -> 0 | O42: =SUM(O39:O41) -> 0 | P42: =SUM(P39:P41) -> 0 | ... AG42: =SUM(AG39:AG41) -> 0 | AI42: =AG42/$AJ$3 -> #DIV/0!
B43: AS2 | C43: Staff Costs
...

Sheet Read me

Sheet Budget Justification
A2: Activity Code | B2: Expense Category | C2: Clarification of the budget items | D2: Justification of the estimated costs
C3: Narrative describtion of each budget item, demonstrating the necessity of the costs and how the costs relate to the activity (e.g. through references to the activities). | D3: Justification of the calculation of the estimated costs. Note that the estimation should be based on real costs
A4: A | B4: Direct Costs (Activity Costs)
B5: Activity Costs as per Logframe
A6: AC | B6: [Activity as per lograme]
A7: AC1.1 | B7: [itemized sub activities AC1.1]
A8: AC1.1.1 | B8: [itemized sub activities AC1.1]
A9: AC1.1.2 | B9: [itemized sub activities AC1.1]
A11: AC1.2 | B11: [Activity as per logframe]
A12: AC1.2.1 | B12: [ itemized sub activities AC1.2]
A13: AC1.2.2 | B13: [ itemized sub activities AC1.2]
A14: AC1.2.3 | B14: [ itemized sub activities AC1.2]
A16: AC2.1 | B16: [Activity as per logframe]
A17: A2.1.1 | B17: [ itemized sub activities AC2.1]
A18: A2.1.2 | B18: [ itemized sub activities AC2.1]
A19: A2.1.3 | B19: [ itemized sub activities AC2.1]
... A27: AC4.1.1 | B27: [Activity Contingency 5% ]
B32: Activity Support Costs
A33: AS1 | B33: External Consultants / Experts
A34: AS1.1 | B34: [ itemized expense ]
A35: AS1.2 | B35: [ itemized expense ]
A36: AS1.3 | B36: [ itemized expense ]
A38: AS2 | B38: Staff Costs
A39: AS2.1 | B39: [ itemized expense Staff 100%, 50%...]
A40: AS2.2 | B40: [ itemized expense Staff 100%, 50%...]
A41: AS2.3 | B41: [ itemized expense Staff 100%, 50%...]
A43: AS3 | B43: Administrative Costs
A44: AS3.1 | B44: [ itemized expense Travel]
A45: AS3.2 | B45: [ itemized expense Field Offices ]
A46: AS3.3 | B46: [ itemized Utilities ]
... A49: B1 | B49: Indirect Cost ( Lump Sum )
